BEGIN:VCALENDAR
VERSION:2.0
PRODID:-//Wáchate - ECPv6.15.15//NONSGML v1.0//EN
CALSCALE:GREGORIAN
METHOD:PUBLISH
X-WR-CALNAME:Wáchate
X-ORIGINAL-URL:https://wachate.mx
X-WR-CALDESC:Eventos para Wáchate
REFRESH-INTERVAL;VALUE=DURATION:PT1H
X-Robots-Tag:noindex
X-PUBLISHED-TTL:PT1H
BEGIN:VTIMEZONE
TZID:America/Ciudad_Juarez
BEGIN:DAYLIGHT
TZOFFSETFROM:-0700
TZOFFSETTO:-0600
TZNAME:MDT
DTSTART:20250309T090000
END:DAYLIGHT
BEGIN:STANDARD
TZOFFSETFROM:-0600
TZOFFSETTO:-0700
TZNAME:MST
DTSTART:20251102T080000
END:STANDARD
BEGIN:DAYLIGHT
TZOFFSETFROM:-0700
TZOFFSETTO:-0600
TZNAME:MDT
DTSTART:20260308T090000
END:DAYLIGHT
BEGIN:STANDARD
TZOFFSETFROM:-0600
TZOFFSETTO:-0700
TZNAME:MST
DTSTART:20261101T080000
END:STANDARD
BEGIN:DAYLIGHT
TZOFFSETFROM:-0700
TZOFFSETTO:-0600
TZNAME:MDT
DTSTART:20270314T090000
END:DAYLIGHT
BEGIN:STANDARD
TZOFFSETFROM:-0600
TZOFFSETTO:-0700
TZNAME:MST
DTSTART:20271107T080000
END:STANDARD
END:VTIMEZONE
BEGIN:VEVENT
DTSTART;TZID=America/Ciudad_Juarez:20260302T090000
DTEND;TZID=America/Ciudad_Juarez:20260531T190000
DTSTAMP:20260423T025308
CREATED:20260217T231552Z
LAST-MODIFIED:20260217T231701Z
UID:6851-1772442000-1780254000@wachate.mx
SUMMARY:Border Art
DESCRIPTION:Fecha: 2 de marzo al 31 de mayo \nHorarios: Jueves a viernes 9:00 am a 5:00 pm \nSábado y domingo 11:00 am a 7:00 pm \nLugar: La Rodadora Museo Interactivo \n 
URL:https://wachate.mx/evento/border-art/
LOCATION:La Rodadora Espacio Interactivo\, Calle Jesús Soltero Lozoya y Blvd. Teófilo Borunda\, Del Norte\, Comunitario Jarudo\, Ciudad Juárez\, Chihuahua\, 32652\, Mexico
CATEGORIES:Arte y cultura,Ciudad Juárez
ATTACH;FMTTYPE=image/jpeg:https://wachate.mx/wp-content/uploads/2026/02/WhatsApp-Image-2026-01-21-at-2.15.54-PM-1.jpeg
END:VEVENT
BEGIN:VEVENT
DTSTART;TZID=America/Ciudad_Juarez:20260408T000000
DTEND;TZID=America/Ciudad_Juarez:20260430T000000
DTSTAMP:20260423T025308
CREATED:20260421T184043Z
LAST-MODIFIED:20260421T184117Z
UID:7303-1775606400-1777507200@wachate.mx
SUMMARY:Iremos a las estrellas
DESCRIPTION:Fecha: 8 al 31 de abril \nHorario: Lunes y martes 9:00 a 16:00 hrs\, miércoles a viernes 9:00 a 18:00 hrs\, sábado y domingo 11:00 a 18:00 hrs
URL:https://wachate.mx/evento/iremos-a-las-estrellas/
LOCATION:Sala de Arte Germán Valdes “Tin Tán”
CATEGORIES:Arte y cultura,Ciudad Juárez
ATTACH;FMTTYPE=image/webp:https://wachate.mx/wp-content/uploads/2026/04/69d686079d69d__69d686079d69f.webp
END:VEVENT
BEGIN:VEVENT
DTSTART;TZID=America/Ciudad_Juarez:20260410T100000
DTEND;TZID=America/Ciudad_Juarez:20260510T180000
DTSTAMP:20260423T025308
CREATED:20260421T182026Z
LAST-MODIFIED:20260421T182314Z
UID:7291-1775815200-1778436000@wachate.mx
SUMMARY:Pequeñopolis
DESCRIPTION:Fecha: 10 de abril al 10 de mayo 2026 \nHorario: 10:00 am a 6:00 pm \nLugar: Parque DIF
URL:https://wachate.mx/evento/pequenopolis/
LOCATION:Parque DIF\, Av. Heroico Colegio Militar s/n\, Chamizal\, 32300 Juárez\, Chih.\, Cd. Juárez\, Chih.\, 32300\, Mexico
CATEGORIES:Ciudad Juárez,Social
ATTACH;FMTTYPE=image/jpeg:https://wachate.mx/wp-content/uploads/2026/04/WhatsApp-Image-2026-04-20-at-1.58.15-PM.jpeg
END:VEVENT
BEGIN:VEVENT
DTSTART;TZID=America/Ciudad_Juarez:20260420T000000
DTEND;TZID=America/Ciudad_Juarez:20260425T000000
DTSTAMP:20260423T025308
CREATED:20260421T183006Z
LAST-MODIFIED:20260421T183058Z
UID:7295-1776643200-1777075200@wachate.mx
SUMMARY:Fiesta de Los Libros
DESCRIPTION:Fecha: 20-25 de abril  \nHorarios: Indistintos \nLugares: Centro Cultural de las Fronteras\, Librería Universitaria UACJ\, UACJ Campus Cuauhtémoc\, UACJ Nuevo Casas Grandes y Museo de Arte de Ciudad Juárez
URL:https://wachate.mx/evento/fiesta-de-los-libros/
LOCATION:Centro Cultural de las Fronteras UACJ\, Anillo Envolvente Jose Reyes Estrada\, 445\, Ciudad Juárez\, Chihuahua\, 32315\, Mexico
CATEGORIES:Arte y cultura,Ciudad Juárez
ATTACH;FMTTYPE=image/webp:https://wachate.mx/wp-content/uploads/2026/04/image-304.webp
END:VEVENT
BEGIN:VEVENT
DTSTART;TZID=America/Ciudad_Juarez:20260423T200000
DTEND;TZID=America/Ciudad_Juarez:20260423T200000
DTSTAMP:20260423T025308
CREATED:20260330T230950Z
LAST-MODIFIED:20260330T233850Z
UID:7206-1776974400-1776974400@wachate.mx
SUMMARY:Fran Hevia
DESCRIPTION:Fecha: 23-abril-2026 \nHorario: 8:00 pm \nLugar: Silver Fox Fuel
URL:https://wachate.mx/evento/fran-hevia/
LOCATION:Silver Fox Fuel\, Av. Paseo Triunfo de la República 430\, Las Fuentes\, Ciudad Juárez\, Chihuahua\, 32530\, Mexico
CATEGORIES:Ciudad Juárez,Social
ATTACH;FMTTYPE=image/jpeg:https://wachate.mx/wp-content/uploads/2026/03/publicodificilproductora_1771955532_3839763769929472861_51225947226.jpg
END:VEVENT
BEGIN:VEVENT
DTSTART;TZID=America/Ciudad_Juarez:20260424T203000
DTEND;TZID=America/Ciudad_Juarez:20260424T203000
DTSTAMP:20260423T025308
CREATED:20260408T175451Z
LAST-MODIFIED:20260408T180955Z
UID:7249-1777062600-1777062600@wachate.mx
SUMMARY:JJ El Gigante de la Comedia
DESCRIPTION:Fecha: 24-abril-2026 \nHorario: 8:30 pm \nLugar: Salón Morocco´s \nBoletos: Don Boletón
URL:https://wachate.mx/evento/jj-el-gigante-de-la-comedia/
LOCATION:Moroccos Centro de Espectáculos\, Av.Reforma 1605\, Ciudad Juárez\, Chihuahua\, 32040\, Mexico
CATEGORIES:Ciudad Juárez,Social
ATTACH;FMTTYPE=image/jpeg:https://wachate.mx/wp-content/uploads/2026/04/JJJRZ300x300.jpg
END:VEVENT
BEGIN:VEVENT
DTSTART;TZID=America/Ciudad_Juarez:20260424T210000
DTEND;TZID=America/Ciudad_Juarez:20260424T210000
DTSTAMP:20260423T025308
CREATED:20260421T183504Z
LAST-MODIFIED:20260421T183531Z
UID:7299-1777064400-1777064400@wachate.mx
SUMMARY:Shey Band De Norte a Sur
DESCRIPTION:Un show de comedia y música \nFecha: 24 de abril de 2026 \nHorario: 9:00 pm \nLugar: Teatro El Paseo \nBoletos: Don Boletón \n 
URL:https://wachate.mx/evento/shey-band-de-norte-a-sur/
LOCATION:Teatro El Paseo\, Plaza El Paseo\, Av. Adolfo López Mateos 2050-Local A 37\, Partido Iglesias\,\, Ciudad Juárez\, Chihuahua\, 32380\, Mexico
CATEGORIES:Ciudad Juárez,Conciertos
ATTACH;FMTTYPE=image/jpeg:https://wachate.mx/wp-content/uploads/2026/04/Pre_SHEYJRZ300x300.jpg
END:VEVENT
BEGIN:VEVENT
DTSTART;TZID=America/Ciudad_Juarez:20260425T150000
DTEND;TZID=America/Ciudad_Juarez:20260425T150000
DTSTAMP:20260423T025308
CREATED:20260421T184449Z
LAST-MODIFIED:20260421T184525Z
UID:7306-1777129200-1777129200@wachate.mx
SUMMARY:Semana de la Niña\, El Niño y el Títere
DESCRIPTION:Teatro de Títeres en Familia \nFecha: 25 de abril 2026 Inauguración  \nHorario: 3:00 pm \nLugar: Museo de Arte de Ciudad Juárez \nEntrada gratuita
URL:https://wachate.mx/evento/semana-de-la-nina-el-nino-y-el-titere/
LOCATION:Museo de Arte de Ciudad Juárez\, Av. Abraham Lincoln y calle Coyoacan\, S. Mejía\, Zona Pronaf Condominio La Plata\, Ciudad Juárez\, Chihuahua\, 32315\, Mexico
CATEGORIES:Arte y cultura,Ciudad Juárez,Social
ATTACH;FMTTYPE=image/jpeg:https://wachate.mx/wp-content/uploads/2026/04/WhatsApp-Image-2026-04-20-at-1.58.15-PM-1.jpeg
END:VEVENT
BEGIN:VEVENT
DTSTART;TZID=America/Ciudad_Juarez:20260425T160000
DTEND;TZID=America/Ciudad_Juarez:20260425T160000
DTSTAMP:20260423T025308
CREATED:20260421T231716Z
LAST-MODIFIED:20260421T231744Z
UID:7316-1777132800-1777132800@wachate.mx
SUMMARY:La Vaca Fest
DESCRIPTION:Fecha: 25 de abril 2026 \nHorario: 4:00 pm \nLugar: Unidad Deportiva La Cuesta \nCosto: $385 pesos por persona \nInformes: 656-304-7548
URL:https://wachate.mx/evento/la-vaca-fest/
LOCATION:Unidad Deportiva La Cuesta\, Jarudo Pte.\, La Cuesta\, 32650 Juárez\, Chih.\, Cd. Juárez\, Chih.\, 32650\, Mexico
CATEGORIES:Ciudad Juárez,Social
ATTACH;FMTTYPE=image/jpeg:https://wachate.mx/wp-content/uploads/2026/04/659084870_1515417946866228_8776144827053233444_n.jpg
END:VEVENT
BEGIN:VEVENT
DTSTART;TZID=America/Ciudad_Juarez:20260425T200000
DTEND;TZID=America/Ciudad_Juarez:20260425T200000
DTSTAMP:20260423T025308
CREATED:20260408T220212Z
LAST-MODIFIED:20260408T220251Z
UID:7255-1777147200-1777147200@wachate.mx
SUMMARY:Aczino en Freestyle Master Series
DESCRIPTION:Fecha: 25-abril-2026 \nHorario: Por confirmar \nLugar: Plaza de la Mexicanidad
URL:https://wachate.mx/evento/aczino-en-freestyle-master-series/
LOCATION:Plaza de la Mexicanidad\, Av. Heroico Colegio Militar y Av. Plutarco Elías Calles\, Ciudad Juárez\, Chihuahua\, 32300\, Mexico
CATEGORIES:Ciudad Juárez,Social
ATTACH;FMTTYPE=image/jpeg:https://wachate.mx/wp-content/uploads/2026/04/juareznumerouno_1772233234_3842093296898650799_58030194562.jpg
END:VEVENT
BEGIN:VEVENT
DTSTART;TZID=America/Ciudad_Juarez:20260425T200000
DTEND;TZID=America/Ciudad_Juarez:20260425T200000
DTSTAMP:20260423T025308
CREATED:20260421T184946Z
LAST-MODIFIED:20260421T185357Z
UID:7309-1777147200-1777147200@wachate.mx
SUMMARY:Grandes Voces de la Canción Ranchera con Aída Cuevas
DESCRIPTION:Fecha: 25 de abril  \nHorario: 8:00 pm \nLugar: Teatro Benito Juárez
URL:https://wachate.mx/evento/grandes-voces-de-la-cancion-ranchera-con-aida-cuevas/
LOCATION:Estadio Olímpico Benito Juárez\, Av. Heroico Colegio Militar 51\, Chamizal\, Ciudad Juárez\, Chihuahua\, 32300\, Mexico
CATEGORIES:Arte y cultura,Ciudad Juárez
ATTACH;FMTTYPE=image/jpeg:https://wachate.mx/wp-content/uploads/2026/04/WhatsApp-Image-2026-04-09-at-6.55.36-PM.jpeg
END:VEVENT
BEGIN:VEVENT
DTSTART;TZID=America/Ciudad_Juarez:20260425T210000
DTEND;TZID=America/Ciudad_Juarez:20260425T210000
DTSTAMP:20260423T025308
CREATED:20260421T232049Z
LAST-MODIFIED:20260421T232314Z
UID:7321-1777150800-1777150800@wachate.mx
SUMMARY:Da Punx Experience “Tributo a Daft Punk”
DESCRIPTION:Fecha: 25-abril-2026 \nHorario: 9:00 pm \nLugar: Foro Main \nFray Marcos de Niza #100 a 100 metros de Av. Paseo Triunfo de la República
URL:https://wachate.mx/evento/da-punx-experience-tributo-a-daft-punk/
LOCATION:Foro Main\, Fray Marcos de Niza 100-1\, San Lorenzo\, 32320 Juárez\, Chih.\, Cd. Juárez\, Chih.\, 32320\, Mexico
CATEGORIES:Ciudad Juárez,Conciertos,Social
ATTACH;FMTTYPE=image/jpeg:https://wachate.mx/wp-content/uploads/2026/04/WhatsApp-Image-2026-04-20-at-1.58.15-PM-2.jpeg
END:VEVENT
BEGIN:VEVENT
DTSTART;TZID=America/Ciudad_Juarez:20260426T180000
DTEND;TZID=America/Ciudad_Juarez:20260426T180000
DTSTAMP:20260423T025308
CREATED:20260408T222819Z
LAST-MODIFIED:20260408T222951Z
UID:7264-1777226400-1777226400@wachate.mx
SUMMARY:Lago de los Cisnes
DESCRIPTION:Fecha: 26-abril-2026 \nHorario: 6:00 pm \nLugar: Centro Cultural Paso del Norte \nBoletos: Don Boletón
URL:https://wachate.mx/evento/lago-de-los-cisnes/
LOCATION:Centro Cultural Paso del Norte\, Anillo Envolvente del Pronaf\, Zona Pronaf Condominio La Plata\, Ciudad Juárez\, Chihuahua\, 32315\, Mexico
CATEGORIES:Arte y cultura,Ciudad Juárez
ATTACH;FMTTYPE=image/jpeg:https://wachate.mx/wp-content/uploads/2026/04/CISNESJRZ300x300.jpg
END:VEVENT
BEGIN:VEVENT
DTSTART;TZID=America/Ciudad_Juarez:20260426T190000
DTEND;TZID=America/Ciudad_Juarez:20260426T190000
DTSTAMP:20260423T025308
CREATED:20260421T232542Z
LAST-MODIFIED:20260421T232604Z
UID:7324-1777230000-1777230000@wachate.mx
SUMMARY:Creedence Clearwater Revival
DESCRIPTION:Fecha: 26 de abril 2026 \nHorario: 7:00 pm \nLugar: Barra Negra \nPreventa: $100 pesos
URL:https://wachate.mx/evento/creedence-clearwater-revival/
LOCATION:Barra Negra\, Blvd. Manuel Gómez Morin 7384-20\, Ciudad Juárez\, Chihuahua\, 32500\, Mexico
CATEGORIES:Ciudad Juárez,Conciertos
ATTACH;FMTTYPE=image/jpeg:https://wachate.mx/wp-content/uploads/2026/04/651354116_122217230294296409_1560970835715247831_n.jpg
END:VEVENT
BEGIN:VEVENT
DTSTART;TZID=America/Ciudad_Juarez:20260428T120000
DTEND;TZID=America/Ciudad_Juarez:20260428T120000
DTSTAMP:20260423T025308
CREATED:20260421T232837Z
LAST-MODIFIED:20260421T232914Z
UID:7327-1777377600-1777377600@wachate.mx
SUMMARY:2do. Festival Cultural Infantil
DESCRIPTION:Fecha: 28 de abril 2026 \nHorario: 12:00 pm a 7:00 pm \nLugar: Centro Cultural de las Fronteras \n 
URL:https://wachate.mx/evento/2do-festival-cultural-infantil/
LOCATION:Centro Cultural de las Fronteras UACJ\, Anillo Envolvente Jose Reyes Estrada\, 445\, Ciudad Juárez\, Chihuahua\, 32315\, Mexico
CATEGORIES:Arte y cultura,Ciudad Juárez
ATTACH;FMTTYPE=image/jpeg:https://wachate.mx/wp-content/uploads/2026/04/WhatsApp-Image-2026-04-20-at-1.58.15-PM-3.jpeg
END:VEVENT
BEGIN:VEVENT
DTSTART;TZID=America/Ciudad_Juarez:20260428T210000
DTEND;TZID=America/Ciudad_Juarez:20260428T210000
DTSTAMP:20260423T025308
CREATED:20260112T195007Z
LAST-MODIFIED:20260112T195849Z
UID:6650-1777410000-1777410000@wachate.mx
SUMMARY:Chayanne “Bailemos otra vez” Tour 2026
DESCRIPTION:Fecha: 28-abril-2026 \nHorario: 9:00 pm \nEstadio Carta Blanca \nBoletos: Don Boletón
URL:https://wachate.mx/evento/chayanne-bailemos-otra-vez-tour-2026/
LOCATION:Estadio Carta Blanca\, Av Reforma 1535\, El Barreal\, Ciudad Juárez\, Chihuahua\, 32040\, Mexico
CATEGORIES:Ciudad Juárez,Conciertos
ATTACH;FMTTYPE=image/jpeg:https://wachate.mx/wp-content/uploads/2026/01/CHAYAJRZ300x300.jpg
END:VEVENT
BEGIN:VEVENT
DTSTART;TZID=America/Ciudad_Juarez:20260429T180000
DTEND;TZID=America/Ciudad_Juarez:20260430T000000
DTSTAMP:20260423T025308
CREATED:20260421T233109Z
LAST-MODIFIED:20260421T233119Z
UID:7330-1777485600-1777507200@wachate.mx
SUMMARY:¿Quién es el que anda ahí?
DESCRIPTION:Fecha: 29 y 30 de abril  \nHorario: 6:00 pm  \nLugar: Teatro Gracia Pasquel
URL:https://wachate.mx/evento/quien-es-el-que-anda-ahi/
LOCATION:Teatro Gracia Pasquel de la UACJ\, Plutarco Elías Calles y Hermanos Escobar\, Dentro del ICB de la UACJ\, Ciudad Juárez\, Chihuahua\, 32310\, Mexico
CATEGORIES:Arte y cultura,Ciudad Juárez
ATTACH;FMTTYPE=image/jpeg:https://wachate.mx/wp-content/uploads/2026/04/CRYJRZ300x300.jpg
END:VEVENT
BEGIN:VEVENT
DTSTART;TZID=America/Ciudad_Juarez:20260430T180000
DTEND;TZID=America/Ciudad_Juarez:20260430T180000
DTSTAMP:20260423T025308
CREATED:20260421T233835Z
LAST-MODIFIED:20260421T233850Z
UID:7336-1777572000-1777572000@wachate.mx
SUMMARY:El Circo de las Emociones por Nayo Escobar
DESCRIPTION:Fecha: 30 de abril 2026 \nHorario: 6:00 pm \nLugar: Centro Cultural Paso del Norte \nBoletos: Don Boletón
URL:https://wachate.mx/evento/el-circo-de-las-emociones-por-nayo-escobar/
LOCATION:Centro Cultural Paso del Norte\, Anillo Envolvente del Pronaf\, Zona Pronaf Condominio La Plata\, Ciudad Juárez\, Chihuahua\, 32315\, Mexico
CATEGORIES:Arte y cultura,Ciudad Juárez
ATTACH;FMTTYPE=image/jpeg:https://wachate.mx/wp-content/uploads/2026/04/NAVOJRZ300x300.jpg
END:VEVENT
BEGIN:VEVENT
DTSTART;TZID=America/Ciudad_Juarez:20260430T220000
DTEND;TZID=America/Ciudad_Juarez:20260430T220000
DTSTAMP:20260423T025308
CREATED:20260421T233600Z
LAST-MODIFIED:20260421T233621Z
UID:7333-1777586400-1777586400@wachate.mx
SUMMARY:Radiohead Showcase Billie Eilish Tributo por Burning Petate
DESCRIPTION:Fecha: 30 de abril 2026 \nHorario: 10:00 pm \nLugar: Barra Negra \nPreventa: $100 pesos
URL:https://wachate.mx/evento/radiohead-showcase-billie-eilish-tributo-por-burning-petate/
LOCATION:Barra Negra\, Blvd. Manuel Gómez Morin 7384-20\, Ciudad Juárez\, Chihuahua\, 32500\, Mexico
CATEGORIES:Ciudad Juárez,Conciertos,Social
ATTACH;FMTTYPE=image/jpeg:https://wachate.mx/wp-content/uploads/2026/04/images-11.jpeg
END:VEVENT
END:VCALENDAR