BEGIN:VCALENDAR
VERSION:2.0
PRODID:-//Wáchate - ECPv6.15.15//NONSGML v1.0//EN
CALSCALE:GREGORIAN
METHOD:PUBLISH
X-ORIGINAL-URL:https://wachate.mx
X-WR-CALDESC:Eventos para Wáchate
REFRESH-INTERVAL;VALUE=DURATION:PT1H
X-Robots-Tag:noindex
X-PUBLISHED-TTL:PT1H
BEGIN:VTIMEZONE
TZID:America/Ciudad_Juarez
BEGIN:DAYLIGHT
TZOFFSETFROM:-0700
TZOFFSETTO:-0600
TZNAME:MDT
DTSTART:20250309T090000
END:DAYLIGHT
BEGIN:STANDARD
TZOFFSETFROM:-0600
TZOFFSETTO:-0700
TZNAME:MST
DTSTART:20251102T080000
END:STANDARD
BEGIN:DAYLIGHT
TZOFFSETFROM:-0700
TZOFFSETTO:-0600
TZNAME:MDT
DTSTART:20260308T090000
END:DAYLIGHT
BEGIN:STANDARD
TZOFFSETFROM:-0600
TZOFFSETTO:-0700
TZNAME:MST
DTSTART:20261101T080000
END:STANDARD
BEGIN:DAYLIGHT
TZOFFSETFROM:-0700
TZOFFSETTO:-0600
TZNAME:MDT
DTSTART:20270314T090000
END:DAYLIGHT
BEGIN:STANDARD
TZOFFSETFROM:-0600
TZOFFSETTO:-0700
TZNAME:MST
DTSTART:20271107T080000
END:STANDARD
END:VTIMEZONE
BEGIN:VEVENT
DTSTART;TZID=America/Ciudad_Juarez:20260124T210000
DTEND;TZID=America/Ciudad_Juarez:20260124T210000
DTSTAMP:20260425T070342
CREATED:20260109T222906Z
LAST-MODIFIED:20260110T002314Z
UID:6646-1769288400-1769288400@wachate.mx
SUMMARY:Tributo a Panteón Rococó by Hotliners
DESCRIPTION:Fecha: 24-enero-2026 \nHorario: 9:00 pm \nLugar: Barra Negra \nCover: $150 pesos \n 
URL:https://wachate.mx/evento/tributo-a-panteon-rococo-by-hotliners/
LOCATION:Barra Negra\, Blvd. Manuel Gómez Morin 7384-20\, Ciudad Juárez\, Chihuahua\, 32500\, Mexico
CATEGORIES:Ciudad Juárez,Conciertos
ATTACH;FMTTYPE=image/jpeg:https://wachate.mx/wp-content/uploads/2026/01/WhatsApp-Image-2026-01-09-at-1.45.33-PM-1.jpeg
END:VEVENT
END:VCALENDAR