BEGIN:VCALENDAR
VERSION:2.0
PRODID:-//Wáchate - ECPv6.15.15//NONSGML v1.0//EN
CALSCALE:GREGORIAN
METHOD:PUBLISH
X-ORIGINAL-URL:https://wachate.mx
X-WR-CALDESC:Eventos para Wáchate
REFRESH-INTERVAL;VALUE=DURATION:PT1H
X-Robots-Tag:noindex
X-PUBLISHED-TTL:PT1H
BEGIN:VTIMEZONE
TZID:America/Ciudad_Juarez
BEGIN:DAYLIGHT
TZOFFSETFROM:-0700
TZOFFSETTO:-0600
TZNAME:MDT
DTSTART:20250309T090000
END:DAYLIGHT
BEGIN:STANDARD
TZOFFSETFROM:-0600
TZOFFSETTO:-0700
TZNAME:MST
DTSTART:20251102T080000
END:STANDARD
BEGIN:DAYLIGHT
TZOFFSETFROM:-0700
TZOFFSETTO:-0600
TZNAME:MDT
DTSTART:20260308T090000
END:DAYLIGHT
BEGIN:STANDARD
TZOFFSETFROM:-0600
TZOFFSETTO:-0700
TZNAME:MST
DTSTART:20261101T080000
END:STANDARD
BEGIN:DAYLIGHT
TZOFFSETFROM:-0700
TZOFFSETTO:-0600
TZNAME:MDT
DTSTART:20270314T090000
END:DAYLIGHT
BEGIN:STANDARD
TZOFFSETFROM:-0600
TZOFFSETTO:-0700
TZNAME:MST
DTSTART:20271107T080000
END:STANDARD
END:VTIMEZONE
BEGIN:VEVENT
DTSTART;TZID=America/Ciudad_Juarez:20260125T200000
DTEND;TZID=America/Ciudad_Juarez:20260125T200000
DTSTAMP:20260425T070322
CREATED:20251124T183927Z
LAST-MODIFIED:20251124T185855Z
UID:6321-1769371200-1769371200@wachate.mx
SUMMARY:Mania “The Abba Tribute”
DESCRIPTION:Fecha: 25 de enero 2026 \nHorario: 8:00 pm \nLugar: Plaza Theatre \nCiudad: El Paso\, Texas
URL:https://wachate.mx/evento/mania-the-abba-tribute/
LOCATION:Plaza Theatre\, 125 Henry Trost Ct\, El Paso\, 79901\, United States
CATEGORIES:Conciertos,El Paso
ATTACH;FMTTYPE=image/jpeg:https://wachate.mx/wp-content/uploads/2025/11/images-3.jpeg
END:VEVENT
END:VCALENDAR