BEGIN:VCALENDAR
VERSION:2.0
PRODID:-//Wáchate - ECPv6.15.15//NONSGML v1.0//EN
CALSCALE:GREGORIAN
METHOD:PUBLISH
X-ORIGINAL-URL:https://wachate.mx
X-WR-CALDESC:Eventos para Wáchate
REFRESH-INTERVAL;VALUE=DURATION:PT1H
X-Robots-Tag:noindex
X-PUBLISHED-TTL:PT1H
BEGIN:VTIMEZONE
TZID:America/Ciudad_Juarez
BEGIN:DAYLIGHT
TZOFFSETFROM:-0700
TZOFFSETTO:-0600
TZNAME:MDT
DTSTART:20250309T090000
END:DAYLIGHT
BEGIN:STANDARD
TZOFFSETFROM:-0600
TZOFFSETTO:-0700
TZNAME:MST
DTSTART:20251102T080000
END:STANDARD
BEGIN:DAYLIGHT
TZOFFSETFROM:-0700
TZOFFSETTO:-0600
TZNAME:MDT
DTSTART:20260308T090000
END:DAYLIGHT
BEGIN:STANDARD
TZOFFSETFROM:-0600
TZOFFSETTO:-0700
TZNAME:MST
DTSTART:20261101T080000
END:STANDARD
BEGIN:DAYLIGHT
TZOFFSETFROM:-0700
TZOFFSETTO:-0600
TZNAME:MDT
DTSTART:20270314T090000
END:DAYLIGHT
BEGIN:STANDARD
TZOFFSETFROM:-0600
TZOFFSETTO:-0700
TZNAME:MST
DTSTART:20271107T080000
END:STANDARD
END:VTIMEZONE
BEGIN:VEVENT
DTSTART;TZID=America/Ciudad_Juarez:20260425T160000
DTEND;TZID=America/Ciudad_Juarez:20260425T160000
DTSTAMP:20260422T132823
CREATED:20260421T231716Z
LAST-MODIFIED:20260421T231744Z
UID:7316-1777132800-1777132800@wachate.mx
SUMMARY:La Vaca Fest
DESCRIPTION:Fecha: 25 de abril 2026 \nHorario: 4:00 pm \nLugar: Unidad Deportiva La Cuesta \nCosto: $385 pesos por persona \nInformes: 656-304-7548
URL:https://wachate.mx/evento/la-vaca-fest/
LOCATION:Unidad Deportiva La Cuesta\, Jarudo Pte.\, La Cuesta\, 32650 Juárez\, Chih.\, Cd. Juárez\, Chih.\, 32650\, Mexico
CATEGORIES:Ciudad Juárez,Social
ATTACH;FMTTYPE=image/jpeg:https://wachate.mx/wp-content/uploads/2026/04/659084870_1515417946866228_8776144827053233444_n.jpg
END:VEVENT
END:VCALENDAR