BEGIN:VCALENDAR
VERSION:2.0
PRODID:-//Wáchate - ECPv6.15.15//NONSGML v1.0//EN
CALSCALE:GREGORIAN
METHOD:PUBLISH
X-ORIGINAL-URL:https://wachate.mx
X-WR-CALDESC:Eventos para Wáchate
REFRESH-INTERVAL;VALUE=DURATION:PT1H
X-Robots-Tag:noindex
X-PUBLISHED-TTL:PT1H
BEGIN:VTIMEZONE
TZID:America/Ciudad_Juarez
BEGIN:DAYLIGHT
TZOFFSETFROM:-0700
TZOFFSETTO:-0600
TZNAME:MDT
DTSTART:20250309T090000
END:DAYLIGHT
BEGIN:STANDARD
TZOFFSETFROM:-0600
TZOFFSETTO:-0700
TZNAME:MST
DTSTART:20251102T080000
END:STANDARD
BEGIN:DAYLIGHT
TZOFFSETFROM:-0700
TZOFFSETTO:-0600
TZNAME:MDT
DTSTART:20260308T090000
END:DAYLIGHT
BEGIN:STANDARD
TZOFFSETFROM:-0600
TZOFFSETTO:-0700
TZNAME:MST
DTSTART:20261101T080000
END:STANDARD
BEGIN:DAYLIGHT
TZOFFSETFROM:-0700
TZOFFSETTO:-0600
TZNAME:MDT
DTSTART:20270314T090000
END:DAYLIGHT
BEGIN:STANDARD
TZOFFSETFROM:-0600
TZOFFSETTO:-0700
TZNAME:MST
DTSTART:20271107T080000
END:STANDARD
END:VTIMEZONE
BEGIN:VEVENT
DTSTART;TZID=America/Ciudad_Juarez:20260420T000000
DTEND;TZID=America/Ciudad_Juarez:20260425T000000
DTSTAMP:20260422T134556
CREATED:20260421T183006Z
LAST-MODIFIED:20260421T183058Z
UID:7295-1776643200-1777075200@wachate.mx
SUMMARY:Fiesta de Los Libros
DESCRIPTION:Fecha: 20-25 de abril  \nHorarios: Indistintos \nLugares: Centro Cultural de las Fronteras\, Librería Universitaria UACJ\, UACJ Campus Cuauhtémoc\, UACJ Nuevo Casas Grandes y Museo de Arte de Ciudad Juárez
URL:https://wachate.mx/evento/fiesta-de-los-libros/
LOCATION:Centro Cultural de las Fronteras UACJ\, Anillo Envolvente Jose Reyes Estrada\, 445\, Ciudad Juárez\, Chihuahua\, 32315\, Mexico
CATEGORIES:Arte y cultura,Ciudad Juárez
ATTACH;FMTTYPE=image/webp:https://wachate.mx/wp-content/uploads/2026/04/image-304.webp
END:VEVENT
END:VCALENDAR